BEGIN:VCALENDAR
VERSION:2.0
PRODID:katholische-akademie-berlin.de
BEGIN:VEVENT
UID:69ea10b33c4d8
DTSTART:20260603T160000Z
SEQUENCE:0
TRANSP:OPAQUE
DTEND:20260603T160000Z
URL:https://www.katholische-akademie-berlin.de/veranstaltung/st-peter-und-p
 aul-eberswalde/
LOCATION:St. Peter und Paul\, Eberswalde\, Schicklerstraße 7\, 16225 Ebers
 walde
X-APPLE-STRUCTURED-LOCATION;VALUE=URI;X-ADDRESS="St. Peter und Paul, Ebersw
 alde, Schicklerstraße 7, 16225 Eberswalde";X-APPLE-RADIUS=49;X-TITLE=:geo
 :52.832747,13.816275
GEO:52.832747;13.816275
SUMMARY:St. Peter und Paul\, Eberswalde
CLASS:PUBLIC
DTSTAMP:20260423T122939Z
END:VEVENT
END:VCALENDAR