BEGIN:VCALENDAR
VERSION:2.0
PRODID:katholische-akademie-berlin.de
BEGIN:VEVENT
UID:69e9f49889d45
DTSTART:20260506T160000Z
SEQUENCE:0
TRANSP:OPAQUE
DTEND:20260506T160000Z
URL:https://www.katholische-akademie-berlin.de/veranstaltung/st-karl-borrom
 aeus-grunewald/
LOCATION:St. Karl Borromäus\, Grunewald\, Delbrückstr. 33\, 14193 Berlin
X-APPLE-STRUCTURED-LOCATION;VALUE=URI;X-ADDRESS="St. Karl Borromäus, Grune
 wald, Delbrückstr. 33, 14193 Berlin";X-APPLE-RADIUS=49;X-TITLE=:geo:52.48
 3935,13.281461
GEO:52.483935;13.281461
SUMMARY:St. Karl Borromäus\, Grunewald
CLASS:PUBLIC
DTSTAMP:20260423T102944Z
END:VEVENT
END:VCALENDAR