BEGIN:VCALENDAR
VERSION:2.0
PRODID:katholische-akademie-berlin.de
BEGIN:VEVENT
UID:69ea10bdaaa25
DTSTART:20260429T170000Z
SEQUENCE:0
TRANSP:OPAQUE
DTEND:20260429T190000Z
URL:https://www.katholische-akademie-berlin.de/veranstaltung/online-infoabe
 nd-zur-kirchenfuehrerausbildung-4/
LOCATION:Teilnahme nur Online möglich!\, 
SUMMARY:Online-Infoabend zur Kirchenführerausbildung 4
CLASS:PUBLIC
DTSTAMP:20260423T122949Z
END:VEVENT
END:VCALENDAR