BEGIN:VCALENDAR
VERSION:2.0
PRODID:katholische-akademie-berlin.de
BEGIN:VEVENT
UID:69e80418a315a
DTSTART:20260423T163000Z
SEQUENCE:0
TRANSP:OPAQUE
DTEND:20260423T180000Z
URL:https://www.katholische-akademie-berlin.de/veranstaltung/geojurispruden
 ce-and-the-new-global-order-from-1943-to-2026/
LOCATION:Katholische Akademie in Berlin\, Hannoversche Str. 5\, 10115 Berli
 n
X-APPLE-STRUCTURED-LOCATION;VALUE=URI;X-ADDRESS="Katholische Akademie in Be
 rlin, Hannoversche Str. 5, 10115 Berlin";X-APPLE-RADIUS=49;X-TITLE=:geo:52
 .527559,13.384672
GEO:52.527559;13.384672
SUMMARY:Geojurisprudence and the new global order from 1943 to 2026
CLASS:PUBLIC
DESCRIPTION: - Vortragsabend im Rahmen der Tagung \"Carl Schmitt: Kriegstag
 ebücher. Editionstagung\"
DTSTAMP:20260421T231120Z
END:VEVENT
END:VCALENDAR