BEGIN:VCALENDAR
VERSION:2.0
PRODID:katholische-akademie-berlin.de
BEGIN:VEVENT
UID:69e9925aa44ea
DTSTART:20260512T170000Z
SEQUENCE:0
TRANSP:OPAQUE
DTEND:20260512T170000Z
URL:https://www.katholische-akademie-berlin.de/veranstaltung/die-unheimlich
 keit-der-welt-2026-05/
LOCATION:Katholische Akademie in Berlin\, Hannoversche Str. 5\, 10115 Berli
 n
X-APPLE-STRUCTURED-LOCATION;VALUE=URI;X-ADDRESS="Katholische Akademie in Be
 rlin, Hannoversche Str. 5, 10115 Berlin";X-APPLE-RADIUS=49;X-TITLE=:geo:52
 .527559,13.384672
GEO:52.527559;13.384672
SUMMARY:Die Unheimlichkeit der Welt
CLASS:PUBLIC
DESCRIPTION: - Denken mit Hannah Arendt
DTSTAMP:20260423T033034Z
END:VEVENT
END:VCALENDAR