BEGIN:VCALENDAR
VERSION:2.0
PRODID:katholische-akademie-berlin.de
BEGIN:VEVENT
UID:69e991b7d05d3
DTSTART;VALUE=DATE:20260528
SEQUENCE:0
TRANSP:OPAQUE
DTEND;VALUE=DATE:20260529
URL:https://www.katholische-akademie-berlin.de/veranstaltung/die-physiker-2
 026-05/
LOCATION:Deutsches Theater\, Schumannstr. 13a\, 10117 Berlin
X-APPLE-STRUCTURED-LOCATION;VALUE=URI;X-ADDRESS="Deutsches Theater, Schuman
 nstr. 13a, 10117 Berlin";X-APPLE-RADIUS=49;X-TITLE=:geo:52.524271,13.38164
 7
GEO:52.524271;13.381647
SUMMARY:Die Physiker
CLASS:PUBLIC
DESCRIPTION: - Gespräch nach der Vorstellung
X-MICROSOFT-CDO-ALLDAYEVENT:TRUE
DTSTAMP:20260423T032751Z
END:VEVENT
END:VCALENDAR