BEGIN:VCALENDAR
VERSION:2.0
PRODID:katholische-akademie-berlin.de
BEGIN:VEVENT
UID:69ec999abf67b
DTSTART:20260518T160000Z
SEQUENCE:0
TRANSP:OPAQUE
DTEND:20260518T160000Z
URL:https://www.katholische-akademie-berlin.de/veranstaltung/die-hersfelder
 -abteikirche-des-11-jahrhunderts-oder-wie-man-bewusst-altertuemlich-baut-2
 026-05/
LOCATION:Katholische Akademie in Berlin\, Hannoversche Str. 5\, 10115 Berli
 n
X-APPLE-STRUCTURED-LOCATION;VALUE=URI;X-ADDRESS="Katholische Akademie in Be
 rlin, Hannoversche Str. 5, 10115 Berlin";X-APPLE-RADIUS=49;X-TITLE=:geo:52
 .527559,13.384672
GEO:52.527559;13.384672
SUMMARY:Die Hersfelder Abteikirche des 11. Jahrhunderts - oder: Wie man bew
 usst altertümlich baut
CLASS:PUBLIC
DESCRIPTION: - Öffentlicher Abend aus der Reihe Berliner Kirchenbauforum (
 BKF)
DTSTAMP:20260425T103818Z
END:VEVENT
END:VCALENDAR