BEGIN:VCALENDAR
VERSION:2.0
PRODID:katholische-akademie-berlin.de
BEGIN:VEVENT
UID:69e51579a6868
DTSTART:20260423T120000Z
SEQUENCE:0
TRANSP:OPAQUE
DTEND:20260424T120000Z
URL:https://www.katholische-akademie-berlin.de/veranstaltung/carl-schmitt-k
 riegestagebuecher-editionstagung-2026-04/
LOCATION:Katholische Akademie in Berlin\, Hannoversche Str. 5\, 10115 Berli
 n
X-APPLE-STRUCTURED-LOCATION;VALUE=URI;X-ADDRESS="Katholische Akademie in Be
 rlin, Hannoversche Str. 5, 10115 Berlin";X-APPLE-RADIUS=49;X-TITLE=:geo:52
 .527559,13.384672
GEO:52.527559;13.384672
SUMMARY:Carl Schmitt: Kriegestagebücher. Editionstagung
CLASS:PUBLIC
DTSTAMP:20260419T174841Z
END:VEVENT
END:VCALENDAR